BEGIN:VCALENDAR
VERSION:2.0
PRODID:-//Chancellor&#039;s Faculty Excellence Program - ECPv6.15.20//NONSGML v1.0//EN
CALSCALE:GREGORIAN
METHOD:PUBLISH
X-WR-CALNAME:Chancellor&#039;s Faculty Excellence Program
X-ORIGINAL-URL:https://facultyclusters.ncsu.edu
X-WR-CALDESC:Events for Chancellor&#039;s Faculty Excellence Program
REFRESH-INTERVAL;VALUE=DURATION:PT1H
X-Robots-Tag:noindex
X-PUBLISHED-TTL:PT1H
BEGIN:VTIMEZONE
TZID:America/New_York
BEGIN:DAYLIGHT
TZOFFSETFROM:-0500
TZOFFSETTO:-0400
TZNAME:EDT
DTSTART:20190310T070000
END:DAYLIGHT
BEGIN:STANDARD
TZOFFSETFROM:-0400
TZOFFSETTO:-0500
TZNAME:EST
DTSTART:20191103T060000
END:STANDARD
BEGIN:DAYLIGHT
TZOFFSETFROM:-0500
TZOFFSETTO:-0400
TZNAME:EDT
DTSTART:20200308T070000
END:DAYLIGHT
BEGIN:STANDARD
TZOFFSETFROM:-0400
TZOFFSETTO:-0500
TZNAME:EST
DTSTART:20201101T060000
END:STANDARD
BEGIN:DAYLIGHT
TZOFFSETFROM:-0500
TZOFFSETTO:-0400
TZNAME:EDT
DTSTART:20210314T070000
END:DAYLIGHT
BEGIN:STANDARD
TZOFFSETFROM:-0400
TZOFFSETTO:-0500
TZNAME:EST
DTSTART:20211107T060000
END:STANDARD
END:VTIMEZONE
BEGIN:VEVENT
DTSTART;TZID=America/New_York:20201203T160000
DTEND;TZID=America/New_York:20201203T170000
DTSTAMP:20260419T080006
CREATED:20200826T142515Z
LAST-MODIFIED:20200826T142706Z
UID:3096-1607011200-1607014800@facultyclusters.ncsu.edu
SUMMARY:M^3 Seminar Series
DESCRIPTION:Dr. Gina Chaput and Dr. Jennifer Rocca from the Hawkes Lab \nRegister in advance for this Seminar: \nhttps://ncsu.zoom.us/meeting/register/tJYpcu2rpjojHtAguCIkX_2Y-Y-ci3SFvv5_ \nAfter registering\, you will receive a confirmation email containing information about joining the seminar.
URL:https://facultyclusters.ncsu.edu/event/m3-seminar-series-2/
LOCATION:Virtual Event
CATEGORIES:Microbiomes and Complex Microbial Communities
END:VEVENT
END:VCALENDAR